BEGIN:VCALENDAR
VERSION:2.0
PRODID:-//John Henry Golf - ECPv4.6.10.1//NONSGML v1.0//EN
CALSCALE:GREGORIAN
METHOD:PUBLISH
X-WR-CALNAME:John Henry Golf
X-ORIGINAL-URL:http://johnhenrygolf.co.uk
X-WR-CALDESC:Events for John Henry Golf
BEGIN:VEVENT
DTSTART;TZID=Europe/London:20230426T080000
DTEND;TZID=Europe/London:20230428T170000
DTSTAMP:20260421T211453
CREATED:20230327T135924Z
LAST-MODIFIED:20230327T135924Z
UID:595-1682496000-1682701200@johnhenrygolf.co.uk
SUMMARY:Aberdeen Links Pro Am - Royal Aberdeen\, Cruden Bay & Trump Aberdeen
DESCRIPTION:
URL:http://johnhenrygolf.co.uk/event/aberdeen-links-pro-royal-aberdeen-cruden-bay-trump-aberdeen/
CATEGORIES:John Henry
END:VEVENT
END:VCALENDAR