BEGIN:VCALENDAR
VERSION:2.0
PRODID:-//John Henry Golf - ECPv4.6.10.1//NONSGML v1.0//EN
CALSCALE:GREGORIAN
METHOD:PUBLISH
X-WR-CALNAME:John Henry Golf
X-ORIGINAL-URL:http://johnhenrygolf.co.uk
X-WR-CALDESC:Events for John Henry Golf
BEGIN:VEVENT
DTSTART;TZID=Europe/London:20230507T080000
DTEND;TZID=Europe/London:20230508T170000
DTSTAMP:20260421T203808
CREATED:20230327T140103Z
LAST-MODIFIED:20230327T140103Z
UID:599-1683446400-1683565200@johnhenrygolf.co.uk
SUMMARY:Big Johnsons Tour - Deeside
DESCRIPTION:
URL:http://johnhenrygolf.co.uk/event/big-johnsons-tour-deeside/
CATEGORIES:Big Johnsons Tour
END:VEVENT
END:VCALENDAR