BEGIN:VCALENDAR
VERSION:2.0
PRODID:-//John Henry Golf - ECPv4.6.10.1//NONSGML v1.0//EN
CALSCALE:GREGORIAN
METHOD:PUBLISH
X-WR-CALNAME:John Henry Golf
X-ORIGINAL-URL:http://johnhenrygolf.co.uk
X-WR-CALDESC:Events for John Henry Golf
BEGIN:VEVENT
DTSTART;TZID=Europe/London:20230412T080000
DTEND;TZID=Europe/London:20230413T170000
DTSTAMP:20260421T173926
CREATED:20230327T135835Z
LAST-MODIFIED:20230327T135835Z
UID:593-1681286400-1681405200@johnhenrygolf.co.uk
SUMMARY:Big Johnsons Tour - Jubilee & Castle Course
DESCRIPTION:
URL:http://johnhenrygolf.co.uk/event/big-johnsons-tour-jubilee-castle-course/
CATEGORIES:Big Johnsons Tour
END:VEVENT
END:VCALENDAR