BEGIN:VCALENDAR
VERSION:2.0
PRODID:-//John Henry Golf - ECPv4.6.10.1//NONSGML v1.0//EN
CALSCALE:GREGORIAN
METHOD:PUBLISH
X-WR-CALNAME:John Henry Golf
X-ORIGINAL-URL:http://johnhenrygolf.co.uk
X-WR-CALDESC:Events for John Henry Golf
BEGIN:VEVENT
DTSTART;TZID=Europe/London:20200424T103000
DTEND;TZID=Europe/London:20200424T170000
DTSTAMP:20260421T185236
CREATED:20200206T091537Z
LAST-MODIFIED:20200206T091537Z
UID:446-1587724200-1587747600@johnhenrygolf.co.uk
SUMMARY:BJT Pro-Am Series - Glasgow Gailes
DESCRIPTION:Glasgow Gailes\n£150 entry per team \n
URL:http://johnhenrygolf.co.uk/event/bjt-pro-series-glasgow-gailes/
CATEGORIES:Big Johnsons Tour
END:VEVENT
END:VCALENDAR