BEGIN:VCALENDAR
VERSION:2.0
PRODID:-//John Henry Golf - ECPv4.6.10.1//NONSGML v1.0//EN
CALSCALE:GREGORIAN
METHOD:PUBLISH
X-WR-CALNAME:John Henry Golf
X-ORIGINAL-URL:http://johnhenrygolf.co.uk
X-WR-CALDESC:Events for John Henry Golf
BEGIN:VEVENT
DTSTART;TZID=Europe/London:20200831T080000
DTEND;TZID=Europe/London:20200831T170000
DTSTAMP:20260421T111321
CREATED:20200810T123804Z
LAST-MODIFIED:20200810T123804Z
UID:474-1598860800-1598893200@johnhenrygolf.co.uk
SUMMARY:BJT Pro-Am Series - Ladybank
DESCRIPTION:Ladybank\n£150 entry per team.\n12.53am first tee time.\nAll entries include breakfast\, lunch & prizes. \n
URL:http://johnhenrygolf.co.uk/event/bjt-pro-series-ladybank-2/
CATEGORIES:Big Johnsons Tour
END:VEVENT
END:VCALENDAR