BEGIN:VCALENDAR
VERSION:2.0
PRODID:-//John Henry Golf - ECPv4.6.10.1//NONSGML v1.0//EN
CALSCALE:GREGORIAN
METHOD:PUBLISH
X-WR-CALNAME:John Henry Golf
X-ORIGINAL-URL:http://johnhenrygolf.co.uk
X-WR-CALDESC:Events for John Henry Golf
BEGIN:VEVENT
DTSTART;TZID=Europe/London:20200522T110000
DTEND;TZID=Europe/London:20200522T170000
DTSTAMP:20260421T165932
CREATED:20200206T091708Z
LAST-MODIFIED:20200217T082757Z
UID:450-1590145200-1590166800@johnhenrygolf.co.uk
SUMMARY:BJT Pro-Am Series - The Roxburghe
DESCRIPTION:The Roxburghe\n£150 entry per team \n
URL:http://johnhenrygolf.co.uk/event/bjt-pro-series-roxburghe/
CATEGORIES:Big Johnsons Tour
END:VEVENT
END:VCALENDAR