BEGIN:VCALENDAR
VERSION:2.0
PRODID:-//John Henry Golf - ECPv4.6.10.1//NONSGML v1.0//EN
CALSCALE:GREGORIAN
METHOD:PUBLISH
X-WR-CALNAME:John Henry Golf
X-ORIGINAL-URL:http://johnhenrygolf.co.uk
X-WR-CALDESC:Events for John Henry Golf
BEGIN:VEVENT
DTSTART;TZID=Europe/London:20190426T101500
DTEND;TZID=Europe/London:20190426T113000
DTSTAMP:20260424T174204
CREATED:20190327T105910Z
LAST-MODIFIED:20190327T105910Z
UID:381-1556273700-1556278200@johnhenrygolf.co.uk
SUMMARY:BJT Summer Series 2019
DESCRIPTION:Ladybank \n
URL:http://johnhenrygolf.co.uk/event/bjt-summer-series-2019-3/
CATEGORIES:Big Johnsons Tour
END:VEVENT
END:VCALENDAR