BEGIN:VCALENDAR
VERSION:2.0
PRODID:-//John Henry Golf - ECPv4.6.10.1//NONSGML v1.0//EN
CALSCALE:GREGORIAN
METHOD:PUBLISH
X-WR-CALNAME:John Henry Golf
X-ORIGINAL-URL:http://johnhenrygolf.co.uk
X-WR-CALDESC:Events for John Henry Golf
BEGIN:VEVENT
DTSTART;TZID=Europe/London:20190429T100000
DTEND;TZID=Europe/London:20190429T110000
DTSTAMP:20260424T154319
CREATED:20190327T105951Z
LAST-MODIFIED:20190327T105951Z
UID:384-1556532000-1556535600@johnhenrygolf.co.uk
SUMMARY:BJT Summer Series 2019
DESCRIPTION:The Roxburgh \n
URL:http://johnhenrygolf.co.uk/event/bjt-summer-series-2019-4/
CATEGORIES:Big Johnsons Tour
END:VEVENT
END:VCALENDAR