BEGIN:VCALENDAR
VERSION:2.0
PRODID:-//John Henry Golf - ECPv4.6.10.1//NONSGML v1.0//EN
CALSCALE:GREGORIAN
METHOD:PUBLISH
X-WR-CALNAME:John Henry Golf
X-ORIGINAL-URL:http://johnhenrygolf.co.uk
X-WR-CALDESC:Events for John Henry Golf
BEGIN:VEVENT
DTSTART;TZID=Europe/London:20190321T100000
DTEND;TZID=Europe/London:20190321T170000
DTSTAMP:20260425T005724
CREATED:20181106T103018Z
LAST-MODIFIED:20181106T103018Z
UID:330-1553162400-1553187600@johnhenrygolf.co.uk
SUMMARY:BJT Winter Series
DESCRIPTION:
URL:http://johnhenrygolf.co.uk/event/bjt-winter-series-5/
CATEGORIES:Big Johnsons Tour
END:VEVENT
END:VCALENDAR