BEGIN:VCALENDAR
VERSION:2.0
PRODID:-//John Henry Golf - ECPv4.6.10.1//NONSGML v1.0//EN
CALSCALE:GREGORIAN
METHOD:PUBLISH
X-WR-CALNAME:John Henry Golf
X-ORIGINAL-URL:http://johnhenrygolf.co.uk
X-WR-CALDESC:Events for John Henry Golf
BEGIN:VEVENT
DTSTART;VALUE=DATE:20210609
DTEND;VALUE=DATE:20210612
DTSTAMP:20260421T211534
CREATED:20201102T135703Z
LAST-MODIFIED:20201102T135720Z
UID:518-1623196800-1623455999@johnhenrygolf.co.uk
SUMMARY:Donnington Grove Golf Club
DESCRIPTION:
URL:http://johnhenrygolf.co.uk/event/donnington-grove-golf-club/
CATEGORIES:John Henry
END:VEVENT
END:VCALENDAR