BEGIN:VCALENDAR
VERSION:2.0
PRODID:-//John Henry Golf - ECPv4.6.10.1//NONSGML v1.0//EN
CALSCALE:GREGORIAN
METHOD:PUBLISH
X-WR-CALNAME:John Henry Golf
X-ORIGINAL-URL:http://johnhenrygolf.co.uk
X-WR-CALDESC:Events for John Henry Golf
BEGIN:VEVENT
DTSTART;VALUE=DATE:20191009
DTEND;VALUE=DATE:20191013
DTSTAMP:20260423T230542
CREATED:20190729T091623Z
LAST-MODIFIED:20190729T091623Z
UID:432-1570579200-1570924799@johnhenrygolf.co.uk
SUMMARY:European Tour School Stage 1
DESCRIPTION:Bom Sucesso\nPortugal \n
URL:http://johnhenrygolf.co.uk/event/european-tour-school-stage-1/
CATEGORIES:John Henry
END:VEVENT
END:VCALENDAR