BEGIN:VCALENDAR
VERSION:2.0
PRODID:-//John Henry Golf - ECPv4.6.10.1//NONSGML v1.0//EN
CALSCALE:GREGORIAN
METHOD:PUBLISH
X-WR-CALNAME:John Henry Golf
X-ORIGINAL-URL:http://johnhenrygolf.co.uk
X-WR-CALDESC:Events for John Henry Golf
BEGIN:VEVENT
DTSTART;VALUE=DATE:20180703
DTEND;VALUE=DATE:20180704
DTSTAMP:20260426T042544
CREATED:20180209T093100Z
LAST-MODIFIED:20180209T093100Z
UID:185-1530576000-1530662399@johnhenrygolf.co.uk
SUMMARY:Final Qualifying The Open Championship
DESCRIPTION:The Renaissance Club \n
URL:http://johnhenrygolf.co.uk/event/final-qualifying-open-championship/
CATEGORIES:John Henry
END:VEVENT
END:VCALENDAR