BEGIN:VCALENDAR
VERSION:2.0
PRODID:-//John Henry Golf - ECPv4.6.10.1//NONSGML v1.0//EN
CALSCALE:GREGORIAN
METHOD:PUBLISH
X-WR-CALNAME:John Henry Golf
X-ORIGINAL-URL:http://johnhenrygolf.co.uk
X-WR-CALDESC:Events for John Henry Golf
BEGIN:VEVENT
DTSTART;VALUE=DATE:20190813
DTEND;VALUE=DATE:20190816
DTSTAMP:20260424T085324
CREATED:20190729T091304Z
LAST-MODIFIED:20190729T091304Z
UID:421-1565654400-1565913599@johnhenrygolf.co.uk
SUMMARY:The HotelPlanner.com Championship
DESCRIPTION:Frilford Heath GC- Blue\nOxon \n
URL:http://johnhenrygolf.co.uk/event/hotelplanner-com-championship/
CATEGORIES:John Henry
END:VEVENT
END:VCALENDAR