BEGIN:VCALENDAR
VERSION:2.0
PRODID:-//John Henry Golf - ECPv4.6.10.1//NONSGML v1.0//EN
CALSCALE:GREGORIAN
METHOD:PUBLISH
X-WR-CALNAME:John Henry Golf
X-ORIGINAL-URL:http://johnhenrygolf.co.uk
X-WR-CALDESC:Events for John Henry Golf
BEGIN:VEVENT
DTSTART;VALUE=DATE:20210623
DTEND;VALUE=DATE:20210626
DTSTAMP:20260421T212004
CREATED:20201102T135809Z
LAST-MODIFIED:20201102T135809Z
UID:522-1624406400-1624665599@johnhenrygolf.co.uk
SUMMARY:Montrose Golf Links
DESCRIPTION:
URL:http://johnhenrygolf.co.uk/event/montrose-golf-links/
CATEGORIES:John Henry
END:VEVENT
END:VCALENDAR