BEGIN:VCALENDAR
VERSION:2.0
PRODID:-//John Henry Golf - ECPv4.6.10.1//NONSGML v1.0//EN
CALSCALE:GREGORIAN
METHOD:PUBLISH
X-WR-CALNAME:John Henry Golf
X-ORIGINAL-URL:http://johnhenrygolf.co.uk
X-WR-CALDESC:Events for John Henry Golf
BEGIN:VEVENT
DTSTART;TZID=Europe/London:20230626T080000
DTEND;TZID=Europe/London:20230626T170000
DTSTAMP:20260421T164736
CREATED:20230327T140437Z
LAST-MODIFIED:20230327T140437Z
UID:617-1687766400-1687798800@johnhenrygolf.co.uk
SUMMARY:Open Qualifying Stage 1
DESCRIPTION:
URL:http://johnhenrygolf.co.uk/event/open-qualifying-stage-1/
CATEGORIES:John Henry
END:VEVENT
END:VCALENDAR