BEGIN:VCALENDAR
VERSION:2.0
PRODID:-//John Henry Golf - ECPv4.6.10.1//NONSGML v1.0//EN
CALSCALE:GREGORIAN
METHOD:PUBLISH
X-WR-CALNAME:John Henry Golf
X-ORIGINAL-URL:http://johnhenrygolf.co.uk
X-WR-CALDESC:Events for John Henry Golf
BEGIN:VEVENT
DTSTART;VALUE=DATE:20180912
DTEND;VALUE=DATE:20180915
DTSTAMP:20260425T113842
CREATED:20180209T093552Z
LAST-MODIFIED:20180209T093552Z
UID:203-1536710400-1536969599@johnhenrygolf.co.uk
SUMMARY:PGA EuroPro Tour
DESCRIPTION:Caversham Heath Golf Club\nCaversham Heath GC\, Reading \n
URL:http://johnhenrygolf.co.uk/event/pga-europro-tour-14/
CATEGORIES:John Henry
END:VEVENT
END:VCALENDAR