BEGIN:VCALENDAR
VERSION:2.0
PRODID:-//John Henry Golf - ECPv4.6.10.1//NONSGML v1.0//EN
CALSCALE:GREGORIAN
METHOD:PUBLISH
X-WR-CALNAME:John Henry Golf
X-ORIGINAL-URL:http://johnhenrygolf.co.uk
X-WR-CALDESC:Events for John Henry Golf
BEGIN:VEVENT
DTSTART;TZID=Europe/London:20211007T080000
DTEND;TZID=Europe/London:20211008T170000
DTSTAMP:20260421T174036
CREATED:20210309T094835Z
LAST-MODIFIED:20210309T094835Z
UID:561-1633593600-1633712400@johnhenrygolf.co.uk
SUMMARY:Tartan Pro Tour - Leven Links Classic
DESCRIPTION:Tartan Pro Tour – Leven Links Classic\nLeven Links \n
URL:http://johnhenrygolf.co.uk/event/tartan-pro-tour-leven-links-classic/
CATEGORIES:Tartan Pro Tour
END:VEVENT
END:VCALENDAR