BEGIN:VCALENDAR
VERSION:2.0
PRODID:-//John Henry Golf - ECPv4.6.10.1//NONSGML v1.0//EN
CALSCALE:GREGORIAN
METHOD:PUBLISH
X-WR-CALNAME:John Henry Golf
X-ORIGINAL-URL:http://johnhenrygolf.co.uk
X-WR-CALDESC:Events for John Henry Golf
BEGIN:VEVENT
DTSTART;TZID=Europe/London:20210518T080000
DTEND;TZID=Europe/London:20210519T170000
DTSTAMP:20260421T211637
CREATED:20210309T094647Z
LAST-MODIFIED:20210309T094647Z
UID:553-1621324800-1621443600@johnhenrygolf.co.uk
SUMMARY:Tartan Pro Tour - The Pollok Open
DESCRIPTION:Tartan Pro Tour – The Pollok Open\nPollok Golf Club \n
URL:http://johnhenrygolf.co.uk/event/tartan-pro-tour-pollok-open/
CATEGORIES:Tartan Pro Tour
END:VEVENT
END:VCALENDAR