BEGIN:VCALENDAR
VERSION:2.0
PRODID:-//John Henry Golf - ECPv4.6.10.1//NONSGML v1.0//EN
CALSCALE:GREGORIAN
METHOD:PUBLISH
X-WR-CALNAME:John Henry Golf
X-ORIGINAL-URL:http://johnhenrygolf.co.uk
X-WR-CALDESC:Events for John Henry Golf
BEGIN:VEVENT
DTSTART;TZID=Europe/London:20230614T080000
DTEND;TZID=Europe/London:20230616T170000
DTSTAMP:20260421T185221
CREATED:20230327T140354Z
LAST-MODIFIED:20230327T140354Z
UID:613-1686729600-1686934800@johnhenrygolf.co.uk
SUMMARY:Tartan Pro Tour - Pollok
DESCRIPTION:
URL:http://johnhenrygolf.co.uk/event/tartan-pro-tour-pollok/
CATEGORIES:Tartan Pro Tour
END:VEVENT
END:VCALENDAR