BEGIN:VCALENDAR
VERSION:2.0
PRODID:-//John Henry Golf - ECPv4.6.10.1//NONSGML v1.0//EN
CALSCALE:GREGORIAN
METHOD:PUBLISH
X-WR-CALNAME:John Henry Golf
X-ORIGINAL-URL:http://johnhenrygolf.co.uk
X-WR-CALDESC:Events for John Henry Golf
BEGIN:VEVENT
DTSTART;TZID=Europe/London:20211013T080000
DTEND;TZID=Europe/London:20211014T170000
DTSTAMP:20260421T174334
CREATED:20210309T094922Z
LAST-MODIFIED:20210309T094922Z
UID:565-1634112000-1634230800@johnhenrygolf.co.uk
SUMMARY:Tartan Pro Tour - Royal Aberdeen Granite City Classic
DESCRIPTION:Tartan Pro Tour – Royal Aberdeen Granite City Classic\nRoyal Aberdeen \n
URL:http://johnhenrygolf.co.uk/event/tartan-pro-tour-royal-aberdeen-granite-city-classic/
CATEGORIES:Tartan Pro Tour
END:VEVENT
END:VCALENDAR