BEGIN:VCALENDAR
VERSION:2.0
PRODID:-//John Henry Golf - ECPv4.6.10.1//NONSGML v1.0//EN
CALSCALE:GREGORIAN
METHOD:PUBLISH
X-WR-CALNAME:John Henry Golf
X-ORIGINAL-URL:http://johnhenrygolf.co.uk
X-WR-CALDESC:Events for John Henry Golf
BEGIN:VEVENT
DTSTART;VALUE=DATE:20190904
DTEND;VALUE=DATE:20190907
DTSTAMP:20260424T023704
CREATED:20190729T091522Z
LAST-MODIFIED:20190729T091522Z
UID:428-1567555200-1567814399@johnhenrygolf.co.uk
SUMMARY:The PDC Championship
DESCRIPTION:Studley Wood\nOxford \n
URL:http://johnhenrygolf.co.uk/event/the-pdc-championship/
CATEGORIES:John Henry
END:VEVENT
END:VCALENDAR