BEGIN:VCALENDAR
VERSION:2.0
PRODID:-//John Henry Golf - ECPv4.6.10.1//NONSGML v1.0//EN
CALSCALE:GREGORIAN
METHOD:PUBLISH
X-WR-CALNAME:John Henry Golf
X-ORIGINAL-URL:http://johnhenrygolf.co.uk
X-WR-CALDESC:Events for John Henry Golf
BEGIN:VEVENT
DTSTART;VALUE=DATE:20210630
DTEND;VALUE=DATE:20210703
DTSTAMP:20260421T174037
CREATED:20201102T135850Z
LAST-MODIFIED:20201102T135850Z
UID:524-1625011200-1625270399@johnhenrygolf.co.uk
SUMMARY:The Vale Golf & Country Club
DESCRIPTION:
URL:http://johnhenrygolf.co.uk/event/vale-golf-country-club/
CATEGORIES:John Henry
END:VEVENT
END:VCALENDAR